BEGIN:VCALENDAR
VERSION:2.0
PRODID:-//UPGT - ECPv6.15.20//NONSGML v1.0//EN
CALSCALE:GREGORIAN
METHOD:PUBLISH
X-WR-CALNAME:UPGT
X-ORIGINAL-URL:https://universitepopulairegrandtoulouse.fr
X-WR-CALDESC:Évènements pour UPGT
REFRESH-INTERVAL;VALUE=DURATION:PT1H
X-Robots-Tag:noindex
X-PUBLISHED-TTL:PT1H
BEGIN:VTIMEZONE
TZID:Europe/Paris
BEGIN:DAYLIGHT
TZOFFSETFROM:+0100
TZOFFSETTO:+0200
TZNAME:CEST
DTSTART:20230326T010000
END:DAYLIGHT
BEGIN:STANDARD
TZOFFSETFROM:+0200
TZOFFSETTO:+0100
TZNAME:CET
DTSTART:20231029T010000
END:STANDARD
BEGIN:DAYLIGHT
TZOFFSETFROM:+0100
TZOFFSETTO:+0200
TZNAME:CEST
DTSTART:20240331T010000
END:DAYLIGHT
BEGIN:STANDARD
TZOFFSETFROM:+0200
TZOFFSETTO:+0100
TZNAME:CET
DTSTART:20241027T010000
END:STANDARD
BEGIN:DAYLIGHT
TZOFFSETFROM:+0100
TZOFFSETTO:+0200
TZNAME:CEST
DTSTART:20250330T010000
END:DAYLIGHT
BEGIN:STANDARD
TZOFFSETFROM:+0200
TZOFFSETTO:+0100
TZNAME:CET
DTSTART:20251026T010000
END:STANDARD
END:VTIMEZONE
BEGIN:VEVENT
DTSTART;TZID=Europe/Paris:20240908T080000
DTEND;TZID=Europe/Paris:20240908T170000
DTSTAMP:20260422T175018
CREATED:20240908T171457Z
LAST-MODIFIED:20240908T171538Z
UID:18813-1725782400-1725814800@universitepopulairegrandtoulouse.fr
SUMMARY:Neurologie Pr PARIENTE: Lien entre troubles du neurodéveloppement (les dys) et maladies neurodégénératives
DESCRIPTION:
URL:https://universitepopulairegrandtoulouse.fr/event/neurologie-pr-pariente-lien-entre-troubles-du-neurodeveloppement-les-dys-et-maladies-neurodegeneratives/
LOCATION:Haute-Garonne
END:VEVENT
BEGIN:VEVENT
DTSTART;TZID=Europe/Paris:20240909T080000
DTEND;TZID=Europe/Paris:20240909T170000
DTSTAMP:20260422T175018
CREATED:20240909T180726Z
LAST-MODIFIED:20240909T180726Z
UID:18824-1725868800-1725901200@universitepopulairegrandtoulouse.fr
SUMMARY:Histoire Nadine PICAUDOU attention séance du 13/01/25 reportée au 06/01/25 18h30 St Cyprien
DESCRIPTION:
URL:https://universitepopulairegrandtoulouse.fr/event/histoire-nadine-picaudou-attention-seance-du-13-01-25-reportee-au-06-01-25-18h30-st-cyprien/
LOCATION:Haute-Garonne
END:VEVENT
BEGIN:VEVENT
DTSTART;TZID=Europe/Paris:20240924T180000
DTEND;TZID=Europe/Paris:20240924T210000
DTSTAMP:20260422T175018
CREATED:20240804T162452Z
LAST-MODIFIED:20240804T162507Z
UID:18319-1727200800-1727211600@universitepopulairegrandtoulouse.fr
SUMMARY:Inauguration rentrée UPGT en musique à 18h au Conseil Départemental
DESCRIPTION:
URL:https://universitepopulairegrandtoulouse.fr/event/inauguration-rentree-upgt-en-musique-a-18h-au-conseil-departemental/
LOCATION:conseil départemental bd de la Marquette\, 1 Boulevard de la Marquette\, Toulouse\, 31090\, France
END:VEVENT
END:VCALENDAR