BEGIN:VCALENDAR
VERSION:2.0
PRODID:-//UPGT - ECPv6.15.20//NONSGML v1.0//EN
CALSCALE:GREGORIAN
METHOD:PUBLISH
X-WR-CALNAME:UPGT
X-ORIGINAL-URL:https://universitepopulairegrandtoulouse.fr
X-WR-CALDESC:Évènements pour UPGT
REFRESH-INTERVAL;VALUE=DURATION:PT1H
X-Robots-Tag:noindex
X-PUBLISHED-TTL:PT1H
BEGIN:VTIMEZONE
TZID:Europe/Paris
BEGIN:DAYLIGHT
TZOFFSETFROM:+0100
TZOFFSETTO:+0200
TZNAME:CEST
DTSTART:20230326T010000
END:DAYLIGHT
BEGIN:STANDARD
TZOFFSETFROM:+0200
TZOFFSETTO:+0100
TZNAME:CET
DTSTART:20231029T010000
END:STANDARD
BEGIN:DAYLIGHT
TZOFFSETFROM:+0100
TZOFFSETTO:+0200
TZNAME:CEST
DTSTART:20240331T010000
END:DAYLIGHT
BEGIN:STANDARD
TZOFFSETFROM:+0200
TZOFFSETTO:+0100
TZNAME:CET
DTSTART:20241027T010000
END:STANDARD
BEGIN:DAYLIGHT
TZOFFSETFROM:+0100
TZOFFSETTO:+0200
TZNAME:CEST
DTSTART:20250330T010000
END:DAYLIGHT
BEGIN:STANDARD
TZOFFSETFROM:+0200
TZOFFSETTO:+0100
TZNAME:CET
DTSTART:20251026T010000
END:STANDARD
END:VTIMEZONE
BEGIN:VEVENT
DTSTART;TZID=Europe/Paris:20240404T183000
DTEND;TZID=Europe/Paris:20240404T203000
DTSTAMP:20260422T235217
CREATED:20231005T162027Z
LAST-MODIFIED:20231005T163416Z
UID:16418-1712255400-1712262600@universitepopulairegrandtoulouse.fr
SUMMARY:Cycle littérature: Jean Louis MORLIGHEM/ 18h30 MDC St Cyprien: Henry David THOREAU ou comment penser et vivre autrement
DESCRIPTION:
URL:https://universitepopulairegrandtoulouse.fr/event/cycle-litterature-jean-louis-morlinghem-18h30-mdc-st-cyprienhenry-david-thoreau-ou-comment-penser-et-vivre-autrement/
LOCATION:St CYPRIEN (Mairie quartier)\, 20 Pl. Jean Diebold\, Toulouse\, Haute-Garonne\, 31300\, France
END:VEVENT
BEGIN:VEVENT
DTSTART;TZID=Europe/Paris:20240422T183000
DTEND;TZID=Europe/Paris:20240422T183000
DTSTAMP:20260422T235217
CREATED:20231005T162941Z
LAST-MODIFIED:20231005T162941Z
UID:16421-1713810600-1713810600@universitepopulairegrandtoulouse.fr
SUMMARY:Cycle Anthropobiologie Alexandre RIBERON: 18h30 MDC St Cyprien: Entre écologie et anthopologie\, la question de l'Anthropocène
DESCRIPTION:
URL:https://universitepopulairegrandtoulouse.fr/event/cycle-anthropobiologie-alexandre-riberon-18h30-mdc-st-cyprien-entre-ecologie-et-anthopologie-la-question-de-lanthropocene/
LOCATION:St CYPRIEN (Mairie quartier)\, 20 Pl. Jean Diebold\, Toulouse\, Haute-Garonne\, 31300\, France
END:VEVENT
BEGIN:VEVENT
DTSTART;TZID=Europe/Paris:20240425T183000
DTEND;TZID=Europe/Paris:20240425T203000
DTSTAMP:20260422T235217
CREATED:20231005T163200Z
LAST-MODIFIED:20240321T230811Z
UID:16423-1714069800-1714077000@universitepopulairegrandtoulouse.fr
SUMMARY:Paléontologie Jean Baptiste FOURVEL 18h30 St Cyprien: Makapansgat Limeworks\, retour sur un site majeur pour la connaissance des homininés anciens en Afrique australe
DESCRIPTION:
URL:https://universitepopulairegrandtoulouse.fr/event/paleontologie-jean-baptiste-fourvel-18h30-st-cyprien/
LOCATION:St CYPRIEN (Mairie quartier)\, 20 Pl. Jean Diebold\, Toulouse\, Haute-Garonne\, 31300\, France
END:VEVENT
BEGIN:VEVENT
DTSTART;TZID=Europe/Paris:20240429T183000
DTEND;TZID=Europe/Paris:20240429T203000
DTSTAMP:20260422T235217
CREATED:20230829T025113Z
LAST-MODIFIED:20230926T131422Z
UID:15951-1714415400-1714422600@universitepopulairegrandtoulouse.fr
SUMMARY:Histoire la naissance de l'islam\, les larmes d'Ismaël\,  Nadine PICAUDOU 18h30/20h30 Salle MDC St Cyprien: 9) L'Imamat chiite
DESCRIPTION:
URL:https://universitepopulairegrandtoulouse.fr/event/histoire-israel-palestine-nadine-picaudou-18h30-20h30-salle-mdc-st-cyprien-3/
LOCATION:St CYPRIEN (Mairie quartier)\, 20 Pl. Jean Diebold\, Toulouse\, Haute-Garonne\, 31300\, France
END:VEVENT
END:VCALENDAR