BEGIN:VCALENDAR
VERSION:2.0
PRODID:-//UPGT - ECPv6.15.20//NONSGML v1.0//EN
CALSCALE:GREGORIAN
METHOD:PUBLISH
X-WR-CALNAME:UPGT
X-ORIGINAL-URL:https://universitepopulairegrandtoulouse.fr
X-WR-CALDESC:Évènements pour UPGT
REFRESH-INTERVAL;VALUE=DURATION:PT1H
X-Robots-Tag:noindex
X-PUBLISHED-TTL:PT1H
BEGIN:VTIMEZONE
TZID:Europe/Paris
BEGIN:DAYLIGHT
TZOFFSETFROM:+0100
TZOFFSETTO:+0200
TZNAME:CEST
DTSTART:20230326T010000
END:DAYLIGHT
BEGIN:STANDARD
TZOFFSETFROM:+0200
TZOFFSETTO:+0100
TZNAME:CET
DTSTART:20231029T010000
END:STANDARD
BEGIN:DAYLIGHT
TZOFFSETFROM:+0100
TZOFFSETTO:+0200
TZNAME:CEST
DTSTART:20240331T010000
END:DAYLIGHT
BEGIN:STANDARD
TZOFFSETFROM:+0200
TZOFFSETTO:+0100
TZNAME:CET
DTSTART:20241027T010000
END:STANDARD
BEGIN:DAYLIGHT
TZOFFSETFROM:+0100
TZOFFSETTO:+0200
TZNAME:CEST
DTSTART:20250330T010000
END:DAYLIGHT
BEGIN:STANDARD
TZOFFSETFROM:+0200
TZOFFSETTO:+0100
TZNAME:CET
DTSTART:20251026T010000
END:STANDARD
END:VTIMEZONE
BEGIN:VEVENT
DTSTART;TZID=Europe/Paris:20240304T183000
DTEND;TZID=Europe/Paris:20240304T203000
DTSTAMP:20260422T223734
CREATED:20231005T140852Z
LAST-MODIFIED:20231005T140900Z
UID:16395-1709577000-1709584200@universitepopulairegrandtoulouse.fr
SUMMARY:Pierrette SOULA "Figures Féminines" "Gala" 18h30 MDC St Cyprien
DESCRIPTION:
URL:https://universitepopulairegrandtoulouse.fr/event/pierrette-soula-figures-feminines-gala-18h30-mdc-st-cyprien/
LOCATION:St CYPRIEN (Mairie quartier)\, 20 Pl. Jean Diebold\, Toulouse\, Haute-Garonne\, 31300\, France
END:VEVENT
BEGIN:VEVENT
DTSTART;TZID=Europe/Paris:20240307T143000
DTEND;TZID=Europe/Paris:20240307T163000
DTSTAMP:20260422T223734
CREATED:20231024T184041Z
LAST-MODIFIED:20240123T122916Z
UID:16577-1709821800-1709829000@universitepopulairegrandtoulouse.fr
SUMMARY:Cycle portraits de femmes Attention nouveau : MDC La Reynerie 14h30/16h Pierrette SOULA: Des femmes au Panthéon
DESCRIPTION:
URL:https://universitepopulairegrandtoulouse.fr/event/cycle-portraits-de-femmes-attention-nouveau-mdc-la-reynerie-14h30-16h-pierrette-soula-germaine-chaumel-photographe-toulousaine/
LOCATION:MDC Ouest la Reynerie\, Grangé-Ramos 1 place conchita\, toulouse\, 31100\, France
END:VEVENT
BEGIN:VEVENT
DTSTART;TZID=Europe/Paris:20240307T183000
DTEND;TZID=Europe/Paris:20240307T203000
DTSTAMP:20260422T223734
CREATED:20230829T030411Z
LAST-MODIFIED:20231005T134909Z
UID:15961-1709836200-1709843400@universitepopulairegrandtoulouse.fr
SUMMARY:Psychiatrie Gérard PIRLOT MDC St Cyprien 18h30/20h30: Les nouvelles souffrances psychiques contemporaines (2)
DESCRIPTION:
URL:https://universitepopulairegrandtoulouse.fr/event/psychiatrie-gerard-pirlot-mdc-st-cyprien-18h30-20h30/
LOCATION:St CYPRIEN (Mairie quartier)\, 20 Pl. Jean Diebold\, Toulouse\, Haute-Garonne\, 31300\, France
END:VEVENT
BEGIN:VEVENT
DTSTART;TZID=Europe/Paris:20240311T183000
DTEND;TZID=Europe/Paris:20240311T203000
DTSTAMP:20260422T223734
CREATED:20230829T025944Z
LAST-MODIFIED:20230829T025944Z
UID:15957-1710181800-1710189000@universitepopulairegrandtoulouse.fr
SUMMARY:Opéra Jean Jacques CUBAYNES  Salle St Cyprien 18h30/20h30
DESCRIPTION:
URL:https://universitepopulairegrandtoulouse.fr/event/opera-jean-jacques-cubaynes-salle-st-cyprien-18h30-20h30/
LOCATION:St CYPRIEN (Mairie quartier)\, 20 Pl. Jean Diebold\, Toulouse\, Haute-Garonne\, 31300\, France
END:VEVENT
BEGIN:VEVENT
DTSTART;TZID=Europe/Paris:20240313T180000
DTEND;TZID=Europe/Paris:20240313T193000
DTSTAMP:20260422T223734
CREATED:20231026T184105Z
LAST-MODIFIED:20231026T184558Z
UID:16616-1710352800-1710358200@universitepopulairegrandtoulouse.fr
SUMMARY:Conférence Dr DELPLA Pierre: 18h Hôtel dieu \, rue Viguerie : CHARCOT et l'hystérie
DESCRIPTION:
URL:https://universitepopulairegrandtoulouse.fr/event/conference-dr-delpla-pierre-18h-hotel-dieu-charcot-et-lhysterie/
LOCATION:Musée de l’Histoire de la Médecine\, 2 Rue Charles Viguerie\, Toulouse\, 31000\, France
END:VEVENT
BEGIN:VEVENT
DTSTART;TZID=Europe/Paris:20240314T183000
DTEND;TZID=Europe/Paris:20240314T203000
DTSTAMP:20260422T223734
CREATED:20231005T155615Z
LAST-MODIFIED:20231005T155622Z
UID:16410-1710441000-1710448200@universitepopulairegrandtoulouse.fr
SUMMARY:Cycle ART/cinéma: Luce BARLANGUE 18h30 MDC St Cyprien : (2) « Le mélodrame dans le cinéma italien des années 1950 : un genre populaire »
DESCRIPTION:
URL:https://universitepopulairegrandtoulouse.fr/event/cycle-art-cinema-luce-barlangue-18h30-mdc-st-cyprien-2-le-melodrame-dans-le-cinema-italien-des-annees-1950-un-genre-populaire/
LOCATION:St CYPRIEN (Mairie quartier)\, 20 Pl. Jean Diebold\, Toulouse\, Haute-Garonne\, 31300\, France
END:VEVENT
BEGIN:VEVENT
DTSTART;TZID=Europe/Paris:20240318T183000
DTEND;TZID=Europe/Paris:20240318T203000
DTSTAMP:20260422T223734
CREATED:20230829T024917Z
LAST-MODIFIED:20230926T131154Z
UID:15949-1710786600-1710793800@universitepopulairegrandtoulouse.fr
SUMMARY:Histoire: "La naissance de l'islam\, les larmes d'Ismaël" Nadine PICAUDOU 18h30/20h30 MDC St Cyprien: 8)Débats théologiques et construction d'une orthodoxie.
DESCRIPTION:tats
URL:https://universitepopulairegrandtoulouse.fr/event/histoire-israel-palestine-nadine-picaudou-18h30-20h30-mdc-st-cyprien/
LOCATION:St CYPRIEN (Mairie quartier)\, 20 Pl. Jean Diebold\, Toulouse\, Haute-Garonne\, 31300\, France
END:VEVENT
BEGIN:VEVENT
DTSTART;TZID=Europe/Paris:20240320T183000
DTEND;TZID=Europe/Paris:20240320T200000
DTSTAMP:20260422T223734
CREATED:20240201T154740Z
LAST-MODIFIED:20240201T154740Z
UID:17327-1710959400-1710964800@universitepopulairegrandtoulouse.fr
SUMMARY:Violences conjugales\, violences intra familiales Stella BISSEUIL  MDC St cyprien ( anciens bains douches)
DESCRIPTION:Exerçant la profession d’avocat avec une activité dominante en Droit de la Famille et en Droit pénal\, et plus particulièrement dans le Droit des victimes (indemnisation du préjudice moral\, psychologique et corporel). Mon propos porte sur une présentation de la réalité sociologique de ce type de violences\, puis sur leur traitement juridique. Il s’agit de présenter les différents dispositifs préventifs et répressifs se rapportant à ce type de situations. Certains dispositifs sont encore mal connus\, et une communication à l’usage du grand public est particulièrement utile\, le nombre de personnes touchées par cette réalité\, soit personnellement soit dans leur entourage étant tel que nous sommes tous concernés.
URL:https://universitepopulairegrandtoulouse.fr/event/violences-conjugales-violences-intra-familiales-stella-bisseuil-mdc-st-cyprien-anciens-bains-douches/
LOCATION:St CYPRIEN (Mairie quartier)\, 20 Pl. Jean Diebold\, Toulouse\, Haute-Garonne\, 31300\, France
END:VEVENT
BEGIN:VEVENT
DTSTART;TZID=Europe/Paris:20240321T183000
DTEND;TZID=Europe/Paris:20240321T203000
DTSTAMP:20260422T223734
CREATED:20231005T141913Z
LAST-MODIFIED:20231005T141919Z
UID:16400-1711045800-1711053000@universitepopulairegrandtoulouse.fr
SUMMARY:Daniel BERNARD; Art /peinture/littérature: (2) Le vin et la sensualité gourmande dans l'histoire de l'Art 18h30 MDC St Cyprien
DESCRIPTION:
URL:https://universitepopulairegrandtoulouse.fr/event/daniel-bernard-art-peinture-litterature-2-le-vin-et-la-sensualite-gourmande-dans-lhistoire-de-lart-18h30-mdc-st-cyprien/
LOCATION:St CYPRIEN (Mairie quartier)\, 20 Pl. Jean Diebold\, Toulouse\, Haute-Garonne\, 31300\, France
END:VEVENT
BEGIN:VEVENT
DTSTART;TZID=Europe/Paris:20240325T183000
DTEND;TZID=Europe/Paris:20240325T203000
DTSTAMP:20260422T223734
CREATED:20230829T031351Z
LAST-MODIFIED:20230926T214223Z
UID:15974-1711391400-1711398600@universitepopulairegrandtoulouse.fr
SUMMARY:Philosophie Elisabeth RIGAL: cycle Freud 18h30/20h30 MDC St Cyprien:3) Par delà la psychanalyse: Freud\, penseur de son temps
DESCRIPTION:
URL:https://universitepopulairegrandtoulouse.fr/event/philosophie-elisabeth-rigal-18h30-20h30-mdc-st-cyprien-2/
LOCATION:St CYPRIEN (Mairie quartier)\, 20 Pl. Jean Diebold\, Toulouse\, Haute-Garonne\, 31300\, France
END:VEVENT
BEGIN:VEVENT
DTSTART;TZID=Europe/Paris:20240328T183000
DTEND;TZID=Europe/Paris:20240328T203000
DTSTAMP:20260422T223734
CREATED:20231005T161454Z
LAST-MODIFIED:20231005T161501Z
UID:16416-1711650600-1711657800@universitepopulairegrandtoulouse.fr
SUMMARY:Conférence Anthropobiologie: Patricia BALARESQUE :  "Femmes et hommes et contributions distinctes à l'histoire évolutive humaine: une question de gamètes\, de culture et d'environnement.
DESCRIPTION:
URL:https://universitepopulairegrandtoulouse.fr/event/conference-anthropobiologie-patricia-balaresque-femmes-et-hommes-et-contributions-distinctes-a-lhistoire-evolutive-humaine-une-question-de-gametes-de-culture-et-denvironnement/
LOCATION:St CYPRIEN (Mairie quartier)\, 20 Pl. Jean Diebold\, Toulouse\, Haute-Garonne\, 31300\, France
END:VEVENT
END:VCALENDAR