BEGIN:VCALENDAR
VERSION:2.0
PRODID:-//UPGT - ECPv6.15.20//NONSGML v1.0//EN
CALSCALE:GREGORIAN
METHOD:PUBLISH
X-WR-CALNAME:UPGT
X-ORIGINAL-URL:https://universitepopulairegrandtoulouse.fr
X-WR-CALDESC:Évènements pour UPGT
REFRESH-INTERVAL;VALUE=DURATION:PT1H
X-Robots-Tag:noindex
X-PUBLISHED-TTL:PT1H
BEGIN:VTIMEZONE
TZID:Europe/Paris
BEGIN:DAYLIGHT
TZOFFSETFROM:+0100
TZOFFSETTO:+0200
TZNAME:CEST
DTSTART:20210328T010000
END:DAYLIGHT
BEGIN:STANDARD
TZOFFSETFROM:+0200
TZOFFSETTO:+0100
TZNAME:CET
DTSTART:20211031T010000
END:STANDARD
BEGIN:DAYLIGHT
TZOFFSETFROM:+0100
TZOFFSETTO:+0200
TZNAME:CEST
DTSTART:20220327T010000
END:DAYLIGHT
BEGIN:STANDARD
TZOFFSETFROM:+0200
TZOFFSETTO:+0100
TZNAME:CET
DTSTART:20221030T010000
END:STANDARD
BEGIN:DAYLIGHT
TZOFFSETFROM:+0100
TZOFFSETTO:+0200
TZNAME:CEST
DTSTART:20230326T010000
END:DAYLIGHT
BEGIN:STANDARD
TZOFFSETFROM:+0200
TZOFFSETTO:+0100
TZNAME:CET
DTSTART:20231029T010000
END:STANDARD
END:VTIMEZONE
BEGIN:VEVENT
DTSTART;TZID=Europe/Paris:20220509T183000
DTEND;TZID=Europe/Paris:20220509T203000
DTSTAMP:20260421T025545
CREATED:20211122T231232Z
LAST-MODIFIED:20220321T143223Z
UID:11801-1652121000-1652128200@universitepopulairegrandtoulouse.fr
SUMMARY:Cycle OPERA Jean Jacques CUBAYNES 18h30 MDC Centre
DESCRIPTION:Roméo et Juliette  ‘  Berlioz/Gounod
URL:https://universitepopulairegrandtoulouse.fr/event/cycle-opera-jean-jacques-cubaynes-18h39-mdc-centre/
LOCATION:MDC CENTRE\, 5 Rue Paul Mériel\, Toulouse\, Haute-Garonne\, 31000\, France
END:VEVENT
BEGIN:VEVENT
DTSTART;TZID=Europe/Paris:20220510T183000
DTEND;TZID=Europe/Paris:20220510T203000
DTSTAMP:20260421T025545
CREATED:20220107T181358Z
LAST-MODIFIED:20220107T181358Z
UID:12146-1652207400-1652214600@universitepopulairegrandtoulouse.fr
SUMMARY:conférence Daniel BERNARD arts plastiques MDC Minimes
DESCRIPTION:Indigo ou lapis-lazuli : « la Tentation de Venise »
URL:https://universitepopulairegrandtoulouse.fr/event/conference-daniel-bernard-arts-plastiques-mdc-minimes/
LOCATION:MDC MINIMES\, 4 Pl. du Marché aux Cochons\, Toulouse\, Haute-Garonne\, 31200\, France
END:VEVENT
BEGIN:VEVENT
DTSTART;TZID=Europe/Paris:20220511T190000
DTEND;TZID=Europe/Paris:20220511T210000
DTSTAMP:20260421T025545
CREATED:20220322T143420Z
LAST-MODIFIED:20220322T143433Z
UID:12497-1652295600-1652302800@universitepopulairegrandtoulouse.fr
SUMMARY:Arciyecture Laurent TOURNIE MDC ST Cyprien 19h
DESCRIPTION:Mies van der Rohe
URL:https://universitepopulairegrandtoulouse.fr/event/arciyecture-laurent-tournie-mdc-st-cyprien-19h/
LOCATION:St CYPRIEN (Mairie quartier)\, 20 Pl. Jean Diebold\, Toulouse\, Haute-Garonne\, 31300\, France
END:VEVENT
BEGIN:VEVENT
DTSTART;TZID=Europe/Paris:20220512T183000
DTEND;TZID=Europe/Paris:20220512T203000
DTSTAMP:20260421T025545
CREATED:20220321T125132Z
LAST-MODIFIED:20220321T125150Z
UID:12484-1652380200-1652387400@universitepopulairegrandtoulouse.fr
SUMMARY:Georges BRINGUIER: "en ces temps de guerre\, comprendre l'Ukraine" MDC centre 18h30
DESCRIPTION:
URL:https://universitepopulairegrandtoulouse.fr/event/georges-bringuier-en-ces-temps-de-guerre-comprendre-lukraine-mdc-centre-18h30/
LOCATION:MDC CENTRE\, 5 Rue Paul Mériel\, Toulouse\, Haute-Garonne\, 31000\, France
END:VEVENT
BEGIN:VEVENT
DTSTART;TZID=Europe/Paris:20220517T183000
DTEND;TZID=Europe/Paris:20220517T203000
DTSTAMP:20260421T025545
CREATED:20220107T181843Z
LAST-MODIFIED:20220316T153916Z
UID:12149-1652812200-1652819400@universitepopulairegrandtoulouse.fr
SUMMARY:Histoire conférence la Marianne Noire MDC Minimes
DESCRIPTION:Georges Bringuier Jacqueline Fonvieille-Ferrasse Monique Biasi Daniel Chartagnac \n  \nLa Marianne noire toulousaine \nL’unique Marianne noire de France au 19° siècle est toulousaine !Récemment redécouverte\, nous vous proposons d’explorer les circonstances de sa réalisation\, son histoire mouvementée et de contempler une copie de ce buste de plus de un mètre de haut\, fier\, altier et énigmatique. \n 
URL:https://universitepopulairegrandtoulouse.fr/event/histoire-conference-la-marianne-noire-mdc-centre/
LOCATION:MDC MINIMES\, 4 Pl. du Marché aux Cochons\, Toulouse\, Haute-Garonne\, 31200\, France
END:VEVENT
BEGIN:VEVENT
DTSTART;TZID=Europe/Paris:20220518T183000
DTEND;TZID=Europe/Paris:20220518T203000
DTSTAMP:20260421T025545
CREATED:20220316T154952Z
LAST-MODIFIED:20220512T124709Z
UID:12442-1652898600-1652905800@universitepopulairegrandtoulouse.fr
SUMMARY:cycle anthropobiologie:  Conférence reportée à la rentrée.Alexandre RIBERON  MDC Minimes le 18/05
DESCRIPTION:L’approche phylogénétique peut-elle aider à appréhender l’évolution culturelle ?
URL:https://universitepopulairegrandtoulouse.fr/event/cycle-anthropobiologie-alexandre-riberon-mdc-minimes-le-18-05/
LOCATION:MDC MINIMES\, 4 Pl. du Marché aux Cochons\, Toulouse\, Haute-Garonne\, 31200\, France
END:VEVENT
BEGIN:VEVENT
DTSTART;TZID=Europe/Paris:20220523T183000
DTEND;TZID=Europe/Paris:20220523T203000
DTSTAMP:20260421T025545
CREATED:20211018T122234Z
LAST-MODIFIED:20220321T143415Z
UID:11452-1653330600-1653337800@universitepopulairegrandtoulouse.fr
SUMMARY:GEOLOGIE / Joseph CANEROT- 18h30    MDC Minimes
DESCRIPTION:Grands sites géologiques d’intérêt patrimonial au sein du Parc National des Pyrénées
URL:https://universitepopulairegrandtoulouse.fr/event/geologie-joseph-canerot-8/
LOCATION:MDC MINIMES\, 4 Pl. du Marché aux Cochons\, Toulouse\, Haute-Garonne\, 31200\, France
END:VEVENT
END:VCALENDAR