BEGIN:VCALENDAR
VERSION:2.0
PRODID:-//UPGT - ECPv6.15.20//NONSGML v1.0//EN
CALSCALE:GREGORIAN
METHOD:PUBLISH
X-ORIGINAL-URL:https://universitepopulairegrandtoulouse.fr
X-WR-CALDESC:Évènements pour UPGT
REFRESH-INTERVAL;VALUE=DURATION:PT1H
X-Robots-Tag:noindex
X-PUBLISHED-TTL:PT1H
BEGIN:VTIMEZONE
TZID:Europe/Paris
BEGIN:DAYLIGHT
TZOFFSETFROM:+0100
TZOFFSETTO:+0200
TZNAME:CEST
DTSTART:20210328T010000
END:DAYLIGHT
BEGIN:STANDARD
TZOFFSETFROM:+0200
TZOFFSETTO:+0100
TZNAME:CET
DTSTART:20211031T010000
END:STANDARD
BEGIN:DAYLIGHT
TZOFFSETFROM:+0100
TZOFFSETTO:+0200
TZNAME:CEST
DTSTART:20220327T010000
END:DAYLIGHT
BEGIN:STANDARD
TZOFFSETFROM:+0200
TZOFFSETTO:+0100
TZNAME:CET
DTSTART:20221030T010000
END:STANDARD
BEGIN:DAYLIGHT
TZOFFSETFROM:+0100
TZOFFSETTO:+0200
TZNAME:CEST
DTSTART:20230326T010000
END:DAYLIGHT
BEGIN:STANDARD
TZOFFSETFROM:+0200
TZOFFSETTO:+0100
TZNAME:CET
DTSTART:20231029T010000
END:STANDARD
END:VTIMEZONE
BEGIN:VEVENT
DTSTART;TZID=Europe/Paris:20220404T183000
DTEND;TZID=Europe/Paris:20220404T203000
DTSTAMP:20260421T012302
CREATED:20211025T213340Z
LAST-MODIFIED:20211220T171531Z
UID:11617-1649097000-1649104200@universitepopulairegrandtoulouse.fr
SUMMARY:Jean Marc ANDRIEU Musique Baroque 18h30 MDC Centre
DESCRIPTION:De Daphnis et Alcimadure opéra Baroque occitan de Mondonville \nMDC Centre 18h30\, métro Capitole ou Jean Jaurès
URL:https://universitepopulairegrandtoulouse.fr/event/jean-marc-andrieu-musique-baroque-2/
LOCATION:MDC CENTRE\, 5 Rue Paul Mériel\, Toulouse\, Haute-Garonne\, 31000\, France
END:VEVENT
BEGIN:VEVENT
DTSTART;TZID=Europe/Paris:20220405T183000
DTEND;TZID=Europe/Paris:20220405T200000
DTSTAMP:20260421T012302
CREATED:20211218T181842Z
LAST-MODIFIED:20211218T181851Z
UID:12023-1649183400-1649188800@universitepopulairegrandtoulouse.fr
SUMMARY:Piano bar - Crowne Plaza - Philippe ARLET 18h30
DESCRIPTION:
URL:https://universitepopulairegrandtoulouse.fr/event/piano-bar-crowne-plaza-philippe-arlet-18h30/
LOCATION:Crowne plaza\, 7 Place du Capitole\, Toulouse\, 31000\, France
END:VEVENT
BEGIN:VEVENT
DTSTART;TZID=Europe/Paris:20220406T183000
DTEND;TZID=Europe/Paris:20220406T203000
DTSTAMP:20260421T012302
CREATED:20211218T182004Z
LAST-MODIFIED:20220321T123940Z
UID:12025-1649269800-1649277000@universitepopulairegrandtoulouse.fr
SUMMARY:Cycle philosophie : Élisabeth RIGAL 18h30 MDC Centre : la question du libéralisme (autour de la "naissance de la biopolitique")
DESCRIPTION:
URL:https://universitepopulairegrandtoulouse.fr/event/cycle-philosophie-elisabeth-rigal-18h30-mdc-centre/
LOCATION:MDC centre\, 5 rue Paul Mériel\, Toulouse\, 31000\, France
END:VEVENT
BEGIN:VEVENT
DTSTART;TZID=Europe/Paris:20220407T180000
DTEND;TZID=Europe/Paris:20220407T203000
DTSTAMP:20260421T012302
CREATED:20211128T173124Z
LAST-MODIFIED:20211128T173124Z
UID:11881-1649354400-1649363400@universitepopulairegrandtoulouse.fr
SUMMARY:Cycle Art/Culture: Pierrette SOULA -MDC St Cyprien 18h30
DESCRIPTION:L’art nouveau à Riga
URL:https://universitepopulairegrandtoulouse.fr/event/cycle-art-culture-pierrette-soula-mdc-st-cyprien-18h30-2/
LOCATION:St CYPRIEN (Mairie quartier)\, 20 Pl. Jean Diebold\, Toulouse\, Haute-Garonne\, 31300\, France
END:VEVENT
BEGIN:VEVENT
DTSTART;TZID=Europe/Paris:20220411T183000
DTEND;TZID=Europe/Paris:20220411T203000
DTSTAMP:20260421T012302
CREATED:20211122T230617Z
LAST-MODIFIED:20220321T143104Z
UID:11796-1649701800-1649709000@universitepopulairegrandtoulouse.fr
SUMMARY:Cycle OPERA : Jean Jacques CUBAYNES 18h30 MDC centre
DESCRIPTION:Romeo et Juliette  Bellini
URL:https://universitepopulairegrandtoulouse.fr/event/cycle-opera-jean-jacques-cubaynes-18h30-mdc-centre-2/
LOCATION:MDC CENTRE\, 5 Rue Paul Mériel\, Toulouse\, Haute-Garonne\, 31000\, France
END:VEVENT
BEGIN:VEVENT
DTSTART;TZID=Europe/Paris:20220413T183000
DTEND;TZID=Europe/Paris:20220413T203000
DTSTAMP:20260421T012302
CREATED:20211018T120523Z
LAST-MODIFIED:20211218T182057Z
UID:11435-1649874600-1649881800@universitepopulairegrandtoulouse.fr
SUMMARY:SCIENCES de L’UNIVERS / Emmanuel HINGLAIS MDC CENTRE 18h30
DESCRIPTION:3) Les petits corps du système solaire : comètes\, astéroïdes et quelques autres
URL:https://universitepopulairegrandtoulouse.fr/event/sciences-de-lunivers-emmanuel-hinglais-3/
LOCATION:MDC CENTRE\, 5 Rue Paul Mériel\, Toulouse\, Haute-Garonne\, 31000\, France
END:VEVENT
BEGIN:VEVENT
DTSTART;TZID=Europe/Paris:20220414T183000
DTEND;TZID=Europe/Paris:20220414T203000
DTSTAMP:20260421T012302
CREATED:20211218T181027Z
LAST-MODIFIED:20211218T181027Z
UID:12013-1649961000-1649968200@universitepopulairegrandtoulouse.fr
SUMMARY:Cycle Littérature - Antonia PALLACH MDC Centre 18h30
DESCRIPTION:Cycle : Molière \nMolière et l’Occitanie\, dix années de partage.
URL:https://universitepopulairegrandtoulouse.fr/event/cycle-litterature-antonia-pallach-mdc-centre-18h30/
LOCATION:MDC CENTRE\, 5 Rue Paul Mériel\, Toulouse\, Haute-Garonne\, 31000\, France
END:VEVENT
BEGIN:VEVENT
DTSTART;TZID=Europe/Paris:20220420T190000
DTEND;TZID=Europe/Paris:20220420T203000
DTSTAMP:20260421T012302
CREATED:20211128T171425Z
LAST-MODIFIED:20211128T171425Z
UID:11873-1650481200-1650486600@universitepopulairegrandtoulouse.fr
SUMMARY:Cycle Architecture Laurent TOURNIE Mdc St Cyprien 19h suite...
DESCRIPTION:Suite…
URL:https://universitepopulairegrandtoulouse.fr/event/cycle-architecture-laurent-tournie-mdc-st-cyprien-19h-suite/
LOCATION:St CYPRIEN (Mairie quartier)\, 20 Pl. Jean Diebold\, Toulouse\, Haute-Garonne\, 31300\, France
END:VEVENT
END:VCALENDAR