BEGIN:VCALENDAR
VERSION:2.0
PRODID:-//UPGT - ECPv6.15.20//NONSGML v1.0//EN
CALSCALE:GREGORIAN
METHOD:PUBLISH
X-ORIGINAL-URL:https://universitepopulairegrandtoulouse.fr
X-WR-CALDESC:Évènements pour UPGT
REFRESH-INTERVAL;VALUE=DURATION:PT1H
X-Robots-Tag:noindex
X-PUBLISHED-TTL:PT1H
BEGIN:VTIMEZONE
TZID:Europe/Paris
BEGIN:DAYLIGHT
TZOFFSETFROM:+0100
TZOFFSETTO:+0200
TZNAME:CEST
DTSTART:20210328T010000
END:DAYLIGHT
BEGIN:STANDARD
TZOFFSETFROM:+0200
TZOFFSETTO:+0100
TZNAME:CET
DTSTART:20211031T010000
END:STANDARD
BEGIN:DAYLIGHT
TZOFFSETFROM:+0100
TZOFFSETTO:+0200
TZNAME:CEST
DTSTART:20220327T010000
END:DAYLIGHT
BEGIN:STANDARD
TZOFFSETFROM:+0200
TZOFFSETTO:+0100
TZNAME:CET
DTSTART:20221030T010000
END:STANDARD
BEGIN:DAYLIGHT
TZOFFSETFROM:+0100
TZOFFSETTO:+0200
TZNAME:CEST
DTSTART:20230326T010000
END:DAYLIGHT
BEGIN:STANDARD
TZOFFSETFROM:+0200
TZOFFSETTO:+0100
TZNAME:CET
DTSTART:20231029T010000
END:STANDARD
END:VTIMEZONE
BEGIN:VEVENT
DTSTART;TZID=Europe/Paris:20220307T183000
DTEND;TZID=Europe/Paris:20220307T203000
DTSTAMP:20260420T233857
CREATED:20211018T120412Z
LAST-MODIFIED:20211128T173708Z
UID:11433-1646677800-1646685000@universitepopulairegrandtoulouse.fr
SUMMARY:SCIENCES de L’UNIVERS / Emmanuel HINGLAIS 18H30 MDC Centre
DESCRIPTION:2) Les petits corps du système solaire : comètes\, astéroïdes et quelques autres
URL:https://universitepopulairegrandtoulouse.fr/event/sciences-de-lunivers-emmanuel-hinglais-2/
LOCATION:MDC CENTRE\, 5 Rue Paul Mériel\, Toulouse\, Haute-Garonne\, 31000\, France
END:VEVENT
BEGIN:VEVENT
DTSTART;TZID=Europe/Paris:20220308T183000
DTEND;TZID=Europe/Paris:20220308T203000
DTSTAMP:20260420T233857
CREATED:20211128T172854Z
LAST-MODIFIED:20220125T114720Z
UID:11879-1646764200-1646771400@universitepopulairegrandtoulouse.fr
SUMMARY:Attention Annulée et reportée!Cycle Art/culture Pierrette SOULA 18h30 MDC St Cyprien
DESCRIPTION:Charlotte DELBO
URL:https://universitepopulairegrandtoulouse.fr/event/cycle-art-culture-pierrette-soula-18h30-mdc-st-cyprien/
LOCATION:St CYPRIEN (Mairie quartier)\, 20 Pl. Jean Diebold\, Toulouse\, Haute-Garonne\, 31300\, France
END:VEVENT
BEGIN:VEVENT
DTSTART;TZID=Europe/Paris:20220308T183000
DTEND;TZID=Europe/Paris:20220308T203000
DTSTAMP:20260420T233857
CREATED:20220125T115035Z
LAST-MODIFIED:20220126T133358Z
UID:12243-1646764200-1646771400@universitepopulairegrandtoulouse.fr
SUMMARY:Michèle TEYSSEYRE MDC 18h30 St Cyprien: thème\, RIQUET réalités et légendes
DESCRIPTION:
URL:https://universitepopulairegrandtoulouse.fr/event/michele-teysseyre-mdc-18h30st-cyprien-pierre-paul-riquet/
LOCATION:St CYPRIEN (Mairie quartier)\, 20 Pl. Jean Diebold\, Toulouse\, Haute-Garonne\, 31300\, France
END:VEVENT
BEGIN:VEVENT
DTSTART;TZID=Europe/Paris:20220309T190000
DTEND;TZID=Europe/Paris:20220309T203000
DTSTAMP:20260420T233857
CREATED:20211128T171214Z
LAST-MODIFIED:20211128T171214Z
UID:11871-1646852400-1646857800@universitepopulairegrandtoulouse.fr
SUMMARY:Cycle Architecture Laurent TOURNIE: MDC St Cyprien 19h (Mies 4)
DESCRIPTION:MIES (4) Illinois Institute of Technology de Chicago\, Crown Hall Chicago 1950-1956\, Lafayette Park 1\, Détroit 1955-1960
URL:https://universitepopulairegrandtoulouse.fr/event/cycle-architecture-laurent-tournie-mdc-st-cyprien-19h-mies-4/
LOCATION:St CYPRIEN (Mairie quartier)\, 20 Pl. Jean Diebold\, Toulouse\, Haute-Garonne\, 31300\, France
END:VEVENT
BEGIN:VEVENT
DTSTART;TZID=Europe/Paris:20220310T183000
DTEND;TZID=Europe/Paris:20220310T203000
DTSTAMP:20260420T233857
CREATED:20211017T105952Z
LAST-MODIFIED:20211128T021506Z
UID:11395-1646937000-1646944200@universitepopulairegrandtoulouse.fr
SUMMARY:CYCLE Histoire Médiévale / Maryse LABORDE MDC St Cyprien 18h30
DESCRIPTION:Histoire des migrations et des minorités au Moyen-Âge
URL:https://universitepopulairegrandtoulouse.fr/event/cycle-histoire-medievale-maryse-laborde/
LOCATION:St CYPRIEN (Mairie quartier)\, 20 Pl. Jean Diebold\, Toulouse\, Haute-Garonne\, 31300\, France
END:VEVENT
BEGIN:VEVENT
DTSTART;TZID=Europe/Paris:20220314T183000
DTEND;TZID=Europe/Paris:20220314T203000
DTSTAMP:20260420T233857
CREATED:20211122T230241Z
LAST-MODIFIED:20211122T231844Z
UID:11794-1647282600-1647289800@universitepopulairegrandtoulouse.fr
SUMMARY:Cycle OPERA: Jean Jacques CUBAYNES MDC centre 18h30
DESCRIPTION:Manon LESCAUT (Puccini)
URL:https://universitepopulairegrandtoulouse.fr/event/cycle-opera-jean-jacques-cubaynes-mdc-centre-18h30/
LOCATION:MDC CENTRE\, 5 Rue Paul Mériel\, Toulouse\, Haute-Garonne\, 31000\, France
END:VEVENT
BEGIN:VEVENT
DTSTART;TZID=Europe/Paris:20220315T183000
DTEND;TZID=Europe/Paris:20220315T203000
DTSTAMP:20260420T233857
CREATED:20211017T103227Z
LAST-MODIFIED:20220125T114559Z
UID:11370-1647369000-1647376200@universitepopulairegrandtoulouse.fr
SUMMARY:Cinéma / Guy CHAPOUILLIE MDC Centre
DESCRIPTION:L’homme à la caméra: un film diluvien\n\n \n 
URL:https://universitepopulairegrandtoulouse.fr/event/anthropobiologie-alexandre-riberon-2/
LOCATION:MDC centre\, 5 rue Paul Mériel\, Toulouse\, 31000\, France
END:VEVENT
BEGIN:VEVENT
DTSTART;TZID=Europe/Paris:20220316T080000
DTEND;TZID=Europe/Paris:20220316T170000
DTSTAMP:20260420T233857
CREATED:20220316T155127Z
LAST-MODIFIED:20220316T155127Z
UID:12445-1647417600-1647450000@universitepopulairegrandtoulouse.fr
SUMMARY:Cycle Anthropobiologie ; Alexandre RIBERON  MDC  Minimes 28/03
DESCRIPTION:
URL:https://universitepopulairegrandtoulouse.fr/event/cycle-anthropobiologie-alexandre-riberon-mdc-minimes-28-03/
LOCATION:Haute-Garonne
END:VEVENT
BEGIN:VEVENT
DTSTART;TZID=Europe/Paris:20220316T183000
DTEND;TZID=Europe/Paris:20220316T203000
DTSTAMP:20260420T233857
CREATED:20211128T021332Z
LAST-MODIFIED:20211128T021332Z
UID:11845-1647455400-1647462600@universitepopulairegrandtoulouse.fr
SUMMARY:Philosophie Elisabeth RIGAL 18h30 Mdc centre \, Michel FOUCAULT
DESCRIPTION:FOUCAULT ET LA QUESTION DU POUVOIR (2):  LE « BIO-POUVOIR » (Autour de La volonté de savoir)
URL:https://universitepopulairegrandtoulouse.fr/event/philosophie-elisabeth-rigal-18h30-mdc-centre-michel-foucault/
LOCATION:MDC CENTRE\, 5 Rue Paul Mériel\, Toulouse\, Haute-Garonne\, 31000\, France
END:VEVENT
BEGIN:VEVENT
DTSTART;TZID=Europe/Paris:20220321T080000
DTEND;TZID=Europe/Paris:20220321T170000
DTSTAMP:20260420T233857
CREATED:20220321T143523Z
LAST-MODIFIED:20220321T143523Z
UID:12490-1647849600-1647882000@universitepopulairegrandtoulouse.fr
SUMMARY:Piano bar Philippe ARLET 18h30 Crowne Plaza
DESCRIPTION:
URL:https://universitepopulairegrandtoulouse.fr/event/piano-bar-philippe-arlet-18h30-crowne-plaza/
LOCATION:Haute-Garonne
END:VEVENT
BEGIN:VEVENT
DTSTART;TZID=Europe/Paris:20220321T183000
DTEND;TZID=Europe/Paris:20220321T203000
DTSTAMP:20260420T233857
CREATED:20211017T110123Z
LAST-MODIFIED:20211017T110123Z
UID:11398-1647887400-1647894600@universitepopulairegrandtoulouse.fr
SUMMARY:CYCLE Histoire Médiévale / Maryse LABORDE
DESCRIPTION:La personne au Moyen-Âge : une histoire de corps et de gestes
URL:https://universitepopulairegrandtoulouse.fr/event/cycle-histoire-medievale-maryse-laborde-2/
LOCATION:St CYPRIEN (Mairie quartier)\, 20 Pl. Jean Diebold\, Toulouse\, Haute-Garonne\, 31300\, France
END:VEVENT
BEGIN:VEVENT
DTSTART;TZID=Europe/Paris:20220323T183000
DTEND;TZID=Europe/Paris:20220323T203000
DTSTAMP:20260420T233857
CREATED:20211019T123729Z
LAST-MODIFIED:20211128T173908Z
UID:11549-1648060200-1648067400@universitepopulairegrandtoulouse.fr
SUMMARY:Sciences de l’Univers / Antonio GÜELL
DESCRIPTION:L’homme interplanétaire demain ! L’humanoïde intergalactique après demain ?
URL:https://universitepopulairegrandtoulouse.fr/event/sciences-de-lunivers-antonio-guell/
LOCATION:MDC centre\, 5 rue Paul Mériel\, Toulouse\, 31000\, France
END:VEVENT
BEGIN:VEVENT
DTSTART;TZID=Europe/Paris:20220324T183000
DTEND;TZID=Europe/Paris:20220324T203000
DTSTAMP:20260420T233857
CREATED:20211019T122837Z
LAST-MODIFIED:20211019T122837Z
UID:11543-1648146600-1648153800@universitepopulairegrandtoulouse.fr
SUMMARY:CYCLE PALEONTOLOGIE / Jean Baptiste FOURVEL
DESCRIPTION:Partage des territoires entre hommes et prédateurs
URL:https://universitepopulairegrandtoulouse.fr/event/cycle-paleontologie-jean-baptiste-fourvel/
LOCATION:MDC MINIMES\, 4 Pl. du Marché aux Cochons\, Toulouse\, Haute-Garonne\, 31200\, France
END:VEVENT
BEGIN:VEVENT
DTSTART;TZID=Europe/Paris:20220330T183000
DTEND;TZID=Europe/Paris:20220330T203000
DTSTAMP:20260420T233857
CREATED:20211019T122323Z
LAST-MODIFIED:20211220T171353Z
UID:11539-1648665000-1648672200@universitepopulairegrandtoulouse.fr
SUMMARY:PSYCHIATRIE / Noëlle et Claude MAILLET 18h30 MDC Minimes
DESCRIPTION:Du mouton au sansonnet. De l’appartenance à l’identité. Quand l’arbre des risques sanitaires cache la forêt des risques psychosociaux.
URL:https://universitepopulairegrandtoulouse.fr/event/psychiatrie-noelle-et-claude-maillet/
LOCATION:MDC MINIMES\, 4 Pl. du Marché aux Cochons\, Toulouse\, Haute-Garonne\, 31200\, France
END:VEVENT
BEGIN:VEVENT
DTSTART;TZID=Europe/Paris:20220331T183000
DTEND;TZID=Europe/Paris:20220331T203000
DTSTAMP:20260420T233857
CREATED:20211019T113227Z
LAST-MODIFIED:20220322T214129Z
UID:11525-1648751400-1648758600@universitepopulairegrandtoulouse.fr
SUMMARY:PALEONTOLOGIE / Francis DURANTHON 18h30 MDC Minimes
DESCRIPTION:Le monde des dinosaures
URL:https://universitepopulairegrandtoulouse.fr/event/paleontologie-francis-duranthon-2/
LOCATION:MDC MINIMES\, 4 Pl. du Marché aux Cochons\, Toulouse\, Haute-Garonne\, 31200\, France
END:VEVENT
END:VCALENDAR