BEGIN:VCALENDAR
VERSION:2.0
PRODID:-//UPGT - ECPv6.15.20//NONSGML v1.0//EN
CALSCALE:GREGORIAN
METHOD:PUBLISH
X-WR-CALNAME:UPGT
X-ORIGINAL-URL:https://universitepopulairegrandtoulouse.fr
X-WR-CALDESC:Évènements pour UPGT
REFRESH-INTERVAL;VALUE=DURATION:PT1H
X-Robots-Tag:noindex
X-PUBLISHED-TTL:PT1H
BEGIN:VTIMEZONE
TZID:Europe/Paris
BEGIN:DAYLIGHT
TZOFFSETFROM:+0100
TZOFFSETTO:+0200
TZNAME:CEST
DTSTART:20200329T010000
END:DAYLIGHT
BEGIN:STANDARD
TZOFFSETFROM:+0200
TZOFFSETTO:+0100
TZNAME:CET
DTSTART:20201025T010000
END:STANDARD
BEGIN:DAYLIGHT
TZOFFSETFROM:+0100
TZOFFSETTO:+0200
TZNAME:CEST
DTSTART:20210328T010000
END:DAYLIGHT
BEGIN:STANDARD
TZOFFSETFROM:+0200
TZOFFSETTO:+0100
TZNAME:CET
DTSTART:20211031T010000
END:STANDARD
BEGIN:DAYLIGHT
TZOFFSETFROM:+0100
TZOFFSETTO:+0200
TZNAME:CEST
DTSTART:20220327T010000
END:DAYLIGHT
BEGIN:STANDARD
TZOFFSETFROM:+0200
TZOFFSETTO:+0100
TZNAME:CET
DTSTART:20221030T010000
END:STANDARD
END:VTIMEZONE
BEGIN:VEVENT
DTSTART;TZID=Europe/Paris:20211201T190000
DTEND;TZID=Europe/Paris:20211201T203000
DTSTAMP:20260420T184745
CREATED:20211128T165456Z
LAST-MODIFIED:20211128T165456Z
UID:11853-1638385200-1638390600@universitepopulairegrandtoulouse.fr
SUMMARY:Cycle Architecture: Laurent TOURNIE: MIES 1 MDC St Cyprien 19h
DESCRIPTION:  MIES (1) Introduction générale\, apprentissages\, premier projet\, concours et manifestes\, Baushaus\, flag\, Werkbund. Maisons Ester et Lange : 1928-1929
URL:https://universitepopulairegrandtoulouse.fr/event/cycle-architecture-laurent-tournie-mies-1-mdc-st-cyprien-19h/
LOCATION:St CYPRIEN (Mairie quartier)\, 20 Pl. Jean Diebold\, Toulouse\, Haute-Garonne\, 31300\, France
END:VEVENT
BEGIN:VEVENT
DTSTART;TZID=Europe/Paris:20211202T183000
DTEND;TZID=Europe/Paris:20211202T203000
DTSTAMP:20260420T184745
CREATED:20211128T172328Z
LAST-MODIFIED:20211128T172328Z
UID:11875-1638469800-1638477000@universitepopulairegrandtoulouse.fr
SUMMARY:Cycle Art/culture Pierrette SOULA MDC St Cyprien 18h30 Barcelone\, une ville nouvelle berceau du modernisme Catalan
DESCRIPTION:Barcelone\, une ville nouvelle berceau de modernisme catalan
URL:https://universitepopulairegrandtoulouse.fr/event/cycle-art-culture-pierrette-soula-mdc-st-cyprien-18h30-barcelone-une-ville-nouvelle-berceau-du-modernisme-catalan/
LOCATION:St CYPRIEN (Mairie quartier)\, 20 Pl. Jean Diebold\, Toulouse\, Haute-Garonne\, 31300\, France
END:VEVENT
BEGIN:VEVENT
DTSTART;TZID=Europe/Paris:20211206T183000
DTEND;TZID=Europe/Paris:20211206T203000
DTSTAMP:20260420T184745
CREATED:20211017T105144Z
LAST-MODIFIED:20211128T194722Z
UID:11387-1638815400-1638822600@universitepopulairegrandtoulouse.fr
SUMMARY:CYCLE HISTOIRE / Nadine PICAUDOU MDC Centre 18h30
DESCRIPTION:Cycle : L’Islam politique contemporain\nUne révolution conservatrice
URL:https://universitepopulairegrandtoulouse.fr/event/cycle-histoire-nadine-picaudou-4/
LOCATION:MDC CENTRE\, 5 Rue Paul Mériel\, Toulouse\, Haute-Garonne\, 31000\, France
END:VEVENT
BEGIN:VEVENT
DTSTART;TZID=Europe/Paris:20211208T183000
DTEND;TZID=Europe/Paris:20211208T203000
DTSTAMP:20260420T184745
CREATED:20211017T100618Z
LAST-MODIFIED:20211107T035934Z
UID:11352-1638988200-1638995400@universitepopulairegrandtoulouse.fr
SUMMARY:CYCLE PHILOSOPHIE : Elisabeth RIGAL ATTENTION! séance annulée
DESCRIPTION:Le pouvoir dans les sociétés modernes\n2) Le « bio pouvoir » : Autour de « La volonté de savoir »
URL:https://universitepopulairegrandtoulouse.fr/event/cycle-philosophie-elisabeth-rigal-3/
LOCATION:MDC CENTRE\, 5 Rue Paul Mériel\, Toulouse\, Haute-Garonne\, 31000\, France
END:VEVENT
BEGIN:VEVENT
DTSTART;TZID=Europe/Paris:20211209T183000
DTEND;TZID=Europe/Paris:20211209T203000
DTSTAMP:20260420T184745
CREATED:20211018T121807Z
LAST-MODIFIED:20211128T194918Z
UID:11445-1639074600-1639081800@universitepopulairegrandtoulouse.fr
SUMMARY:GEOLOGIE / Joseph CANEROT 18h30 MDC St Cyprien
DESCRIPTION:Aperçu géologique de l’Antarctique
URL:https://universitepopulairegrandtoulouse.fr/event/geologie-joseph-canerot-5/
LOCATION:St CYPRIEN (Mairie quartier)\, 20 Pl. Jean Diebold\, Toulouse\, Haute-Garonne\, 31300\, France
END:VEVENT
BEGIN:VEVENT
DTSTART;TZID=Europe/Paris:20211210T183000
DTEND;TZID=Europe/Paris:20211210T203000
DTSTAMP:20260420T184745
CREATED:20211025T211700Z
LAST-MODIFIED:20211128T195057Z
UID:11609-1639161000-1639168200@universitepopulairegrandtoulouse.fr
SUMMARY:Jean Marc ANDRIEU  Musique Baroque MDC St Cyprien 18h30
DESCRIPTION:La rhétorique musicale dans la Passion selon Saint-Jean de Bach
URL:https://universitepopulairegrandtoulouse.fr/event/jean-marc-andrieu-musique-baroque/
LOCATION:St CYPRIEN (Mairie quartier)\, 20 Pl. Jean Diebold\, Toulouse\, Haute-Garonne\, 31300\, France
END:VEVENT
BEGIN:VEVENT
DTSTART;TZID=Europe/Paris:20211213T183000
DTEND;TZID=Europe/Paris:20211213T203000
DTSTAMP:20260420T184745
CREATED:20211107T040527Z
LAST-MODIFIED:20211128T195415Z
UID:11683-1639420200-1639427400@universitepopulairegrandtoulouse.fr
SUMMARY:Gérard PIRLOT Psychiatrie Psychanalyse:  MDC centre 18h30: Turbulences à l'adolescence: l'exemple de RIMBAUD
DESCRIPTION:
URL:https://universitepopulairegrandtoulouse.fr/event/gerard-pirlot-turbulences-a-ladolescence-lexemple-de-rimbaud/
LOCATION:MDC CENTRE\, 5 Rue Paul Mériel\, Toulouse\, Haute-Garonne\, 31000\, France
END:VEVENT
BEGIN:VEVENT
DTSTART;TZID=Europe/Paris:20211214T183000
DTEND;TZID=Europe/Paris:20211214T200000
DTSTAMP:20260420T184745
CREATED:20211128T195607Z
LAST-MODIFIED:20211128T195607Z
UID:11888-1639506600-1639512000@universitepopulairegrandtoulouse.fr
SUMMARY:Piano Bar avec Philippe ARLET crowne plaza 18h30
DESCRIPTION:
URL:https://universitepopulairegrandtoulouse.fr/event/piano-bar-avec-philippe-arlet-crowne-plaza-18h30-3/
LOCATION:Crowne plaza\, 7 Place du Capitole\, Toulouse\, 31000\, France
END:VEVENT
BEGIN:VEVENT
DTSTART;TZID=Europe/Paris:20211215T183000
DTEND;TZID=Europe/Paris:20211215T203000
DTSTAMP:20260420T184745
CREATED:20211017T105326Z
LAST-MODIFIED:20211128T195729Z
UID:11389-1639593000-1639600200@universitepopulairegrandtoulouse.fr
SUMMARY:CYCLE HISTOIRE  MOYEN ORIENT/ Nadine PICAUDOU MDC centre 18h30
DESCRIPTION:Cycle : L’Islam politique contemporain\nSalafisme et jihadisme contemporains
URL:https://universitepopulairegrandtoulouse.fr/event/cycle-histoire-nadine-picaudou-5/
LOCATION:MDC CENTRE\, 5 Rue Paul Mériel\, Toulouse\, Haute-Garonne\, 31000\, France
END:VEVENT
BEGIN:VEVENT
DTSTART;TZID=Europe/Paris:20211216T183000
DTEND;TZID=Europe/Paris:20211216T203000
DTSTAMP:20260420T184745
CREATED:20211025T212442Z
LAST-MODIFIED:20211218T180834Z
UID:11613-1639679400-1639686600@universitepopulairegrandtoulouse.fr
SUMMARY:Louis BUSCAIL Peinture MDC Saint Cyprien 18h30
DESCRIPTION:La peinture expressionniste allemande \nMusée de la Médecine Hôtel Dieu métro Esquirol et St Cyprien
URL:https://universitepopulairegrandtoulouse.fr/event/louis-buscail-peinture/
LOCATION:St CYPRIEN (Mairie quartier)\, 20 Pl. Jean Diebold\, Toulouse\, Haute-Garonne\, 31300\, France
END:VEVENT
END:VCALENDAR