BEGIN:VCALENDAR
VERSION:2.0
PRODID:-//UPGT - ECPv6.15.20//NONSGML v1.0//EN
CALSCALE:GREGORIAN
METHOD:PUBLISH
X-WR-CALNAME:UPGT
X-ORIGINAL-URL:https://universitepopulairegrandtoulouse.fr
X-WR-CALDESC:Évènements pour UPGT
REFRESH-INTERVAL;VALUE=DURATION:PT1H
X-Robots-Tag:noindex
X-PUBLISHED-TTL:PT1H
BEGIN:VTIMEZONE
TZID:Europe/Paris
BEGIN:DAYLIGHT
TZOFFSETFROM:+0100
TZOFFSETTO:+0200
TZNAME:CEST
DTSTART:20230326T010000
END:DAYLIGHT
BEGIN:STANDARD
TZOFFSETFROM:+0200
TZOFFSETTO:+0100
TZNAME:CET
DTSTART:20231029T010000
END:STANDARD
BEGIN:DAYLIGHT
TZOFFSETFROM:+0100
TZOFFSETTO:+0200
TZNAME:CEST
DTSTART:20240331T010000
END:DAYLIGHT
BEGIN:STANDARD
TZOFFSETFROM:+0200
TZOFFSETTO:+0100
TZNAME:CET
DTSTART:20241027T010000
END:STANDARD
BEGIN:DAYLIGHT
TZOFFSETFROM:+0100
TZOFFSETTO:+0200
TZNAME:CEST
DTSTART:20250330T010000
END:DAYLIGHT
BEGIN:STANDARD
TZOFFSETFROM:+0200
TZOFFSETTO:+0100
TZNAME:CET
DTSTART:20251026T010000
END:STANDARD
END:VTIMEZONE
BEGIN:VEVENT
DTSTART;TZID=Europe/Paris:20240527T183000
DTEND;TZID=Europe/Paris:20240527T203000
DTSTAMP:20260422T234627
CREATED:20231005T165033Z
LAST-MODIFIED:20240211T171939Z
UID:16434-1716834600-1716841800@universitepopulairegrandtoulouse.fr
SUMMARY:Paléontologie: Francis DURANTHON: 18h30 MDC St Cyprien: La lionne des cavernes de Souillac
DESCRIPTION:
URL:https://universitepopulairegrandtoulouse.fr/event/paleontologie-francis-duranthon-18h30-mdc-st-cyprien-la-lionne-des-cavernes-de-souillac/
LOCATION:St CYPRIEN (Mairie quartier)\, 20 Pl. Jean Diebold\, Toulouse\, Haute-Garonne\, 31300\, France
END:VEVENT
END:VCALENDAR