BEGIN:VCALENDAR
VERSION:2.0
PRODID:-//UPGT - ECPv6.15.20//NONSGML v1.0//EN
CALSCALE:GREGORIAN
METHOD:PUBLISH
X-ORIGINAL-URL:https://universitepopulairegrandtoulouse.fr
X-WR-CALDESC:Évènements pour UPGT
REFRESH-INTERVAL;VALUE=DURATION:PT1H
X-Robots-Tag:noindex
X-PUBLISHED-TTL:PT1H
BEGIN:VTIMEZONE
TZID:Europe/Paris
BEGIN:DAYLIGHT
TZOFFSETFROM:+0100
TZOFFSETTO:+0200
TZNAME:CEST
DTSTART:20230326T010000
END:DAYLIGHT
BEGIN:STANDARD
TZOFFSETFROM:+0200
TZOFFSETTO:+0100
TZNAME:CET
DTSTART:20231029T010000
END:STANDARD
BEGIN:DAYLIGHT
TZOFFSETFROM:+0100
TZOFFSETTO:+0200
TZNAME:CEST
DTSTART:20240331T010000
END:DAYLIGHT
BEGIN:STANDARD
TZOFFSETFROM:+0200
TZOFFSETTO:+0100
TZNAME:CET
DTSTART:20241027T010000
END:STANDARD
BEGIN:DAYLIGHT
TZOFFSETFROM:+0100
TZOFFSETTO:+0200
TZNAME:CEST
DTSTART:20250330T010000
END:DAYLIGHT
BEGIN:STANDARD
TZOFFSETFROM:+0200
TZOFFSETTO:+0100
TZNAME:CET
DTSTART:20251026T010000
END:STANDARD
END:VTIMEZONE
BEGIN:VEVENT
DTSTART;TZID=Europe/Paris:20240404T183000
DTEND;TZID=Europe/Paris:20240404T203000
DTSTAMP:20260423T023146
CREATED:20231005T162027Z
LAST-MODIFIED:20231005T163416Z
UID:16418-1712255400-1712262600@universitepopulairegrandtoulouse.fr
SUMMARY:Cycle littérature: Jean Louis MORLIGHEM/ 18h30 MDC St Cyprien: Henry David THOREAU ou comment penser et vivre autrement
DESCRIPTION:
URL:https://universitepopulairegrandtoulouse.fr/event/cycle-litterature-jean-louis-morlinghem-18h30-mdc-st-cyprienhenry-david-thoreau-ou-comment-penser-et-vivre-autrement/
LOCATION:St CYPRIEN (Mairie quartier)\, 20 Pl. Jean Diebold\, Toulouse\, Haute-Garonne\, 31300\, France
END:VEVENT
END:VCALENDAR