BEGIN:VCALENDAR
VERSION:2.0
PRODID:-//UPGT - ECPv6.15.20//NONSGML v1.0//EN
CALSCALE:GREGORIAN
METHOD:PUBLISH
X-WR-CALNAME:UPGT
X-ORIGINAL-URL:https://universitepopulairegrandtoulouse.fr
X-WR-CALDESC:Évènements pour UPGT
REFRESH-INTERVAL;VALUE=DURATION:PT1H
X-Robots-Tag:noindex
X-PUBLISHED-TTL:PT1H
BEGIN:VTIMEZONE
TZID:Europe/Paris
BEGIN:DAYLIGHT
TZOFFSETFROM:+0100
TZOFFSETTO:+0200
TZNAME:CEST
DTSTART:20210328T010000
END:DAYLIGHT
BEGIN:STANDARD
TZOFFSETFROM:+0200
TZOFFSETTO:+0100
TZNAME:CET
DTSTART:20211031T010000
END:STANDARD
BEGIN:DAYLIGHT
TZOFFSETFROM:+0100
TZOFFSETTO:+0200
TZNAME:CEST
DTSTART:20220327T010000
END:DAYLIGHT
BEGIN:STANDARD
TZOFFSETFROM:+0200
TZOFFSETTO:+0100
TZNAME:CET
DTSTART:20221030T010000
END:STANDARD
BEGIN:DAYLIGHT
TZOFFSETFROM:+0100
TZOFFSETTO:+0200
TZNAME:CEST
DTSTART:20230326T010000
END:DAYLIGHT
BEGIN:STANDARD
TZOFFSETFROM:+0200
TZOFFSETTO:+0100
TZNAME:CET
DTSTART:20231029T010000
END:STANDARD
END:VTIMEZONE
BEGIN:VEVENT
DTSTART;TZID=Europe/Paris:20220316T080000
DTEND;TZID=Europe/Paris:20220316T170000
DTSTAMP:20260421T013814
CREATED:20220316T155127Z
LAST-MODIFIED:20220316T155127Z
UID:12445-1647417600-1647450000@universitepopulairegrandtoulouse.fr
SUMMARY:Cycle Anthropobiologie ; Alexandre RIBERON  MDC  Minimes 28/03
DESCRIPTION:
URL:https://universitepopulairegrandtoulouse.fr/event/cycle-anthropobiologie-alexandre-riberon-mdc-minimes-28-03/
LOCATION:Haute-Garonne
END:VEVENT
BEGIN:VEVENT
DTSTART;TZID=Europe/Paris:20220316T183000
DTEND;TZID=Europe/Paris:20220316T203000
DTSTAMP:20260421T013814
CREATED:20211128T021332Z
LAST-MODIFIED:20211128T021332Z
UID:11845-1647455400-1647462600@universitepopulairegrandtoulouse.fr
SUMMARY:Philosophie Elisabeth RIGAL 18h30 Mdc centre \, Michel FOUCAULT
DESCRIPTION:FOUCAULT ET LA QUESTION DU POUVOIR (2):  LE « BIO-POUVOIR » (Autour de La volonté de savoir)
URL:https://universitepopulairegrandtoulouse.fr/event/philosophie-elisabeth-rigal-18h30-mdc-centre-michel-foucault/
LOCATION:MDC CENTRE\, 5 Rue Paul Mériel\, Toulouse\, Haute-Garonne\, 31000\, France
END:VEVENT
END:VCALENDAR