BEGIN:VCALENDAR
VERSION:2.0
PRODID:-//UPGT - ECPv6.15.20//NONSGML v1.0//EN
CALSCALE:GREGORIAN
METHOD:PUBLISH
X-ORIGINAL-URL:https://universitepopulairegrandtoulouse.fr
X-WR-CALDESC:Évènements pour UPGT
REFRESH-INTERVAL;VALUE=DURATION:PT1H
X-Robots-Tag:noindex
X-PUBLISHED-TTL:PT1H
BEGIN:VTIMEZONE
TZID:Europe/Paris
BEGIN:DAYLIGHT
TZOFFSETFROM:+0100
TZOFFSETTO:+0200
TZNAME:CEST
DTSTART:20200329T010000
END:DAYLIGHT
BEGIN:STANDARD
TZOFFSETFROM:+0200
TZOFFSETTO:+0100
TZNAME:CET
DTSTART:20201025T010000
END:STANDARD
BEGIN:DAYLIGHT
TZOFFSETFROM:+0100
TZOFFSETTO:+0200
TZNAME:CEST
DTSTART:20210328T010000
END:DAYLIGHT
BEGIN:STANDARD
TZOFFSETFROM:+0200
TZOFFSETTO:+0100
TZNAME:CET
DTSTART:20211031T010000
END:STANDARD
BEGIN:DAYLIGHT
TZOFFSETFROM:+0100
TZOFFSETTO:+0200
TZNAME:CEST
DTSTART:20220327T010000
END:DAYLIGHT
BEGIN:STANDARD
TZOFFSETFROM:+0200
TZOFFSETTO:+0100
TZNAME:CET
DTSTART:20221030T010000
END:STANDARD
END:VTIMEZONE
BEGIN:VEVENT
DTSTART;TZID=Europe/Paris:20211210T183000
DTEND;TZID=Europe/Paris:20211210T203000
DTSTAMP:20260420T201034
CREATED:20211025T211700Z
LAST-MODIFIED:20211128T195057Z
UID:11609-1639161000-1639168200@universitepopulairegrandtoulouse.fr
SUMMARY:Jean Marc ANDRIEU  Musique Baroque MDC St Cyprien 18h30
DESCRIPTION:La rhétorique musicale dans la Passion selon Saint-Jean de Bach
URL:https://universitepopulairegrandtoulouse.fr/event/jean-marc-andrieu-musique-baroque/
LOCATION:St CYPRIEN (Mairie quartier)\, 20 Pl. Jean Diebold\, Toulouse\, Haute-Garonne\, 31300\, France
END:VEVENT
END:VCALENDAR