BEGIN:VCALENDAR
VERSION:2.0
PRODID:-//UPGT - ECPv6.15.20//NONSGML v1.0//EN
CALSCALE:GREGORIAN
METHOD:PUBLISH
X-ORIGINAL-URL:https://universitepopulairegrandtoulouse.fr
X-WR-CALDESC:Évènements pour UPGT
REFRESH-INTERVAL;VALUE=DURATION:PT1H
X-Robots-Tag:noindex
X-PUBLISHED-TTL:PT1H
BEGIN:VTIMEZONE
TZID:Europe/Paris
BEGIN:DAYLIGHT
TZOFFSETFROM:+0100
TZOFFSETTO:+0200
TZNAME:CEST
DTSTART:20200329T010000
END:DAYLIGHT
BEGIN:STANDARD
TZOFFSETFROM:+0200
TZOFFSETTO:+0100
TZNAME:CET
DTSTART:20201025T010000
END:STANDARD
BEGIN:DAYLIGHT
TZOFFSETFROM:+0100
TZOFFSETTO:+0200
TZNAME:CEST
DTSTART:20210328T010000
END:DAYLIGHT
BEGIN:STANDARD
TZOFFSETFROM:+0200
TZOFFSETTO:+0100
TZNAME:CET
DTSTART:20211031T010000
END:STANDARD
BEGIN:DAYLIGHT
TZOFFSETFROM:+0100
TZOFFSETTO:+0200
TZNAME:CEST
DTSTART:20220327T010000
END:DAYLIGHT
BEGIN:STANDARD
TZOFFSETFROM:+0200
TZOFFSETTO:+0100
TZNAME:CET
DTSTART:20221030T010000
END:STANDARD
END:VTIMEZONE
BEGIN:VEVENT
DTSTART;TZID=Europe/Paris:20211130T183000
DTEND;TZID=Europe/Paris:20211130T183000
DTSTAMP:20260420T184852
CREATED:20211018T130642Z
LAST-MODIFIED:20211128T204210Z
UID:11475-1638297000-1638297000@universitepopulairegrandtoulouse.fr
SUMMARY:Piano bar avec Philippe ARLET ATTENTION soirée ANNULEE!
DESCRIPTION:Tous les mardis (sauf le troisième) de chaque mois\, rendez-vous au Crowne Plaza place du Capitole. Consulter l’agenda chaque mois.  Participation : une consommation.
URL:https://universitepopulairegrandtoulouse.fr/event/piano-bar-avec-philippe-arlet-5/
LOCATION:Crowne plaza\, 7 Place du Capitole\, Toulouse\, 31000\, France
END:VEVENT
END:VCALENDAR