BEGIN:VCALENDAR
VERSION:2.0
PRODID:-//UPGT - ECPv6.15.20//NONSGML v1.0//EN
CALSCALE:GREGORIAN
METHOD:PUBLISH
X-ORIGINAL-URL:https://universitepopulairegrandtoulouse.fr
X-WR-CALDESC:Évènements pour UPGT
REFRESH-INTERVAL;VALUE=DURATION:PT1H
X-Robots-Tag:noindex
X-PUBLISHED-TTL:PT1H
BEGIN:VTIMEZONE
TZID:Europe/Paris
BEGIN:DAYLIGHT
TZOFFSETFROM:+0100
TZOFFSETTO:+0200
TZNAME:CEST
DTSTART:20200329T010000
END:DAYLIGHT
BEGIN:STANDARD
TZOFFSETFROM:+0200
TZOFFSETTO:+0100
TZNAME:CET
DTSTART:20201025T010000
END:STANDARD
BEGIN:DAYLIGHT
TZOFFSETFROM:+0100
TZOFFSETTO:+0200
TZNAME:CEST
DTSTART:20210328T010000
END:DAYLIGHT
BEGIN:STANDARD
TZOFFSETFROM:+0200
TZOFFSETTO:+0100
TZNAME:CET
DTSTART:20211031T010000
END:STANDARD
BEGIN:DAYLIGHT
TZOFFSETFROM:+0100
TZOFFSETTO:+0200
TZNAME:CEST
DTSTART:20220327T010000
END:DAYLIGHT
BEGIN:STANDARD
TZOFFSETFROM:+0200
TZOFFSETTO:+0100
TZNAME:CET
DTSTART:20221030T010000
END:STANDARD
END:VTIMEZONE
BEGIN:VEVENT
DTSTART;TZID=Europe/Paris:20211125T190000
DTEND;TZID=Europe/Paris:20211125T210000
DTSTAMP:20260420T184902
CREATED:20211017T091937Z
LAST-MODIFIED:20211107T040940Z
UID:11339-1637866800-1637874000@universitepopulairegrandtoulouse.fr
SUMMARY:MEDECINE :  Pr Bernard GUIRAUD CHAUMEIL attention 19h Conseil Départemental Bd de la marquette
DESCRIPTION:La nouvelle maladie et la leçon de Thucydide.
URL:https://universitepopulairegrandtoulouse.fr/event/medecine-bernard-guiraud-chaumeil/
LOCATION:conseil départemental bd de la Marquette\, 1 Boulevard de la Marquette\, Toulouse\, 31090\, France
END:VEVENT
END:VCALENDAR