BEGIN:VCALENDAR
VERSION:2.0
PRODID:-//UPGT - ECPv6.15.20//NONSGML v1.0//EN
CALSCALE:GREGORIAN
METHOD:PUBLISH
X-WR-CALNAME:UPGT
X-ORIGINAL-URL:https://universitepopulairegrandtoulouse.fr
X-WR-CALDESC:Évènements pour UPGT
REFRESH-INTERVAL;VALUE=DURATION:PT1H
X-Robots-Tag:noindex
X-PUBLISHED-TTL:PT1H
BEGIN:VTIMEZONE
TZID:Europe/Paris
BEGIN:DAYLIGHT
TZOFFSETFROM:+0100
TZOFFSETTO:+0200
TZNAME:CEST
DTSTART:20200329T010000
END:DAYLIGHT
BEGIN:STANDARD
TZOFFSETFROM:+0200
TZOFFSETTO:+0100
TZNAME:CET
DTSTART:20201025T010000
END:STANDARD
BEGIN:DAYLIGHT
TZOFFSETFROM:+0100
TZOFFSETTO:+0200
TZNAME:CEST
DTSTART:20210328T010000
END:DAYLIGHT
BEGIN:STANDARD
TZOFFSETFROM:+0200
TZOFFSETTO:+0100
TZNAME:CET
DTSTART:20211031T010000
END:STANDARD
BEGIN:DAYLIGHT
TZOFFSETFROM:+0100
TZOFFSETTO:+0200
TZNAME:CEST
DTSTART:20220327T010000
END:DAYLIGHT
BEGIN:STANDARD
TZOFFSETFROM:+0200
TZOFFSETTO:+0100
TZNAME:CET
DTSTART:20221030T010000
END:STANDARD
END:VTIMEZONE
BEGIN:VEVENT
DTSTART;TZID=Europe/Paris:20211117T183000
DTEND;TZID=Europe/Paris:20211117T203000
DTSTAMP:20260420T184658
CREATED:20211017T104758Z
LAST-MODIFIED:20211017T104758Z
UID:11383-1637173800-1637181000@universitepopulairegrandtoulouse.fr
SUMMARY:CYCLE HISTOIRE / Nadine PICAUDOU
DESCRIPTION:Cycle : L’Islam politique contemporain\nLes Frères Musulmans en Egypte
URL:https://universitepopulairegrandtoulouse.fr/event/cycle-histoire-nadine-picaudou-2/
LOCATION:MDC CENTRE\, 5 Rue Paul Mériel\, Toulouse\, Haute-Garonne\, 31000\, France
END:VEVENT
END:VCALENDAR