BEGIN:VCALENDAR
VERSION:2.0
PRODID:-//UPGT - ECPv6.15.20//NONSGML v1.0//EN
CALSCALE:GREGORIAN
METHOD:PUBLISH
X-ORIGINAL-URL:https://universitepopulairegrandtoulouse.fr
X-WR-CALDESC:Évènements pour UPGT
REFRESH-INTERVAL;VALUE=DURATION:PT1H
X-Robots-Tag:noindex
X-PUBLISHED-TTL:PT1H
BEGIN:VTIMEZONE
TZID:Europe/Paris
BEGIN:DAYLIGHT
TZOFFSETFROM:+0100
TZOFFSETTO:+0200
TZNAME:CEST
DTSTART:20200329T010000
END:DAYLIGHT
BEGIN:STANDARD
TZOFFSETFROM:+0200
TZOFFSETTO:+0100
TZNAME:CET
DTSTART:20201025T010000
END:STANDARD
BEGIN:DAYLIGHT
TZOFFSETFROM:+0100
TZOFFSETTO:+0200
TZNAME:CEST
DTSTART:20210328T010000
END:DAYLIGHT
BEGIN:STANDARD
TZOFFSETFROM:+0200
TZOFFSETTO:+0100
TZNAME:CET
DTSTART:20211031T010000
END:STANDARD
BEGIN:DAYLIGHT
TZOFFSETFROM:+0100
TZOFFSETTO:+0200
TZNAME:CEST
DTSTART:20220327T010000
END:DAYLIGHT
BEGIN:STANDARD
TZOFFSETFROM:+0200
TZOFFSETTO:+0100
TZNAME:CET
DTSTART:20221030T010000
END:STANDARD
END:VTIMEZONE
BEGIN:VEVENT
DTSTART;TZID=Europe/Paris:20211116T183000
DTEND;TZID=Europe/Paris:20211116T203000
DTSTAMP:20260420T184902
CREATED:20211019T112715Z
LAST-MODIFIED:20211107T040700Z
UID:11518-1637087400-1637094600@universitepopulairegrandtoulouse.fr
SUMMARY:PSYCHIATRIE/PSYCHANALYSE : Pr Gérard PIRLOT Attention conférence reportée au 13/12
DESCRIPTION:Turbulences à l’adolescence : l’exemple de Rimbaud
URL:https://universitepopulairegrandtoulouse.fr/event/psychiatrie-psychanalyse-pr-gerard-pirlot/
LOCATION:MDC CENTRE\, 5 Rue Paul Mériel\, Toulouse\, Haute-Garonne\, 31000\, France
END:VEVENT
END:VCALENDAR